BEGIN:VCALENDAR
VERSION:2.0
PRODID:-//Via Satellite - ECPv6.15.17.1//NONSGML v1.0//EN
CALSCALE:GREGORIAN
METHOD:PUBLISH
X-WR-CALNAME:Via Satellite
X-ORIGINAL-URL:https://www.satellitetoday.com
X-WR-CALDESC:Events for Via Satellite
REFRESH-INTERVAL;VALUE=DURATION:PT1H
X-Robots-Tag:noindex
X-PUBLISHED-TTL:PT1H
BEGIN:VTIMEZONE
TZID:America/New_York
BEGIN:DAYLIGHT
TZOFFSETFROM:-0500
TZOFFSETTO:-0400
TZNAME:EDT
DTSTART:20230312T070000
END:DAYLIGHT
BEGIN:STANDARD
TZOFFSETFROM:-0400
TZOFFSETTO:-0500
TZNAME:EST
DTSTART:20231105T060000
END:STANDARD
BEGIN:DAYLIGHT
TZOFFSETFROM:-0500
TZOFFSETTO:-0400
TZNAME:EDT
DTSTART:20240310T070000
END:DAYLIGHT
BEGIN:STANDARD
TZOFFSETFROM:-0400
TZOFFSETTO:-0500
TZNAME:EST
DTSTART:20241103T060000
END:STANDARD
BEGIN:DAYLIGHT
TZOFFSETFROM:-0500
TZOFFSETTO:-0400
TZNAME:EDT
DTSTART:20250309T070000
END:DAYLIGHT
BEGIN:STANDARD
TZOFFSETFROM:-0400
TZOFFSETTO:-0500
TZNAME:EST
DTSTART:20251102T060000
END:STANDARD
END:VTIMEZONE
BEGIN:VEVENT
DTSTART;TZID=America/New_York:20240514T000000
DTEND;TZID=America/New_York:20240516T000000
DTSTAMP:20260420T193720
CREATED:20231012T181528Z
LAST-MODIFIED:20231012T181528Z
UID:377136-1715644800-1715817600@www.satellitetoday.com
SUMMARY:ANGA COM 2024
DESCRIPTION:ANGA COM is Europe’s leading business platform for Broadband\, Television and Online. It brings together network operators\, vendors and content providers on all issues of broadband and media distribution. The next show date is 14 to 16 May 2024 in Cologne/Germany. \nANGA COM’s key topics include: Gigabit Networks\, FTTX\, 5G\, OTT\, AppTV\, Cloud TV\, Video Streaming\, Smart City and Smart Home. \nThe last ANGA COM counted more than 470 exhibitors from 35 countries and 22\,000 participants from over 80 countries. Among the largest exhibitors are telecom vendors such as Amadys\, Astra\, AVM\, Casa Systems\, CommScope\, GM Plast\, HUBER+SUHNER\, Opternus\, Teleste and WISI. The speaker line-up of the conference programme includes C-level representatives of Deutsche Telekom\, Vodafone\, Deutsche Glasfaser\, Tele Columbus\, NetCologne\, M-net\, ProSiebenSat.1\, RTL Television\, Netflix\, DAZN and Paramount. \nWith Vodafone\, Deutsche Telekom\, RTL and a large number of local fiber network operators\, the Cologne area is Germany’s leading business hub for broadband and media. About 40 million people live within a radius of only 250 kilometers. Three international airports (Cologne\, Dusseldorf and Frankfurt) can be reached in less than one hour. These are unique conditions to showcase our industry to Europe and beyond. \nANGA COM is organized by ANGA Services GmbH\, a subsidiary of ANGA The Broadband Association. The association represents more than 200 companies of the German broadband business\, who supply more than 40 million consumers with telecommunications services in Germany.
URL:https://www.satellitetoday.com/event/anga-com-2024/
CATEGORIES:Industry Events
ATTACH;FMTTYPE=image/jpeg:https://www.satellitetoday.com/wp-content/uploads/ninja-forms/4/ANGA_COM_print-2.jpg
END:VEVENT
BEGIN:VEVENT
DTSTART;TZID=America/New_York:20240520T080000
DTEND;TZID=America/New_York:20240522T170000
DTSTAMP:20260420T193720
CREATED:20240124T180445Z
LAST-MODIFIED:20240124T180445Z
UID:385563-1716192000-1716397200@www.satellitetoday.com
SUMMARY:Space Meetings Veneto
DESCRIPTION:International conference and business meetings dedicated to the Space Industry
URL:https://www.satellitetoday.com/event/space-meetings-veneto/
LOCATION:Terminal 3\, Venice\, Italy
CATEGORIES:Industry Events
ATTACH;FMTTYPE=image/jpeg:https://www.satellitetoday.com/wp-content/uploads/2024/01/Space_Meetings_Veneto-logo-scaled-1.jpg
END:VEVENT
BEGIN:VEVENT
DTSTART;TZID=America/New_York:20240521T000000
DTEND;TZID=America/New_York:20240523T000000
DTSTAMP:20260420T193720
CREATED:20231114T144246Z
LAST-MODIFIED:20231114T144246Z
UID:378474-1716249600-1716422400@www.satellitetoday.com
SUMMARY:CABSAT
DESCRIPTION:CABSAT was established in 1993 and has evolved to align with the latest trends and technologies in the Media & Satellite communications industry in the MEASA region. This is an annual event that serves as a platform for the global media\, entertainment\, and technology industry. \nNow in its 30th edition\, CABSAT delivers THE platform for the broadcast\, production\, content delivery\, digital media\, and satellite sectors across the Middle East\, Africa and South Asia (MEASA). The event brings together agencies\, broadcasters\, satellite operators\, buyers & sellers of filmed content to share learning\, and expertise and capitalize on the opportunities created by the huge disruption in content consumption across the region’s film and audio entertainment media market. \nWebsite: www.cabsat.com
URL:https://www.satellitetoday.com/event/cabsat-2/
CATEGORIES:Industry Events
ATTACH;FMTTYPE=image/png:https://www.satellitetoday.com/wp-content/uploads/ninja-forms/4/CABSAT-2024-logo-with-dates-2.png
END:VEVENT
BEGIN:VEVENT
DTSTART;TZID=America/New_York:20240521T080000
DTEND;TZID=America/New_York:20240523T170000
DTSTAMP:20260420T193720
CREATED:20240418T153921Z
LAST-MODIFIED:20240418T153921Z
UID:387197-1716278400-1716483600@www.satellitetoday.com
SUMMARY:IOT Solutions World Congress
DESCRIPTION:The IOT Solutions World Congress is the ultimate ecosystem and annual gathering for industry leaders\, tech experts\, and C-level professionals. Experience the power of transformative technologies that are reshaping industries and overcoming pressing challenges. We go beyond IoT\, unlocking the full potential of disruptive tech. Don’t miss out on the definitive destination for actionable technology solutions. Be a part of the vibrant community shaping the future of industries.
URL:https://www.satellitetoday.com/event/iot-solutions-world-congress-3/
CATEGORIES:Industry Events
ATTACH;FMTTYPE=image/png:https://www.satellitetoday.com/wp-content/uploads/2024/04/Company-Logo-2.png
END:VEVENT
BEGIN:VEVENT
DTSTART;VALUE=DATE:20240522
DTEND;VALUE=DATE:20240524
DTSTAMP:20260420T193720
CREATED:20240423T194850Z
LAST-MODIFIED:20240423T194850Z
UID:387307-1716375600-1716461999@www.satellitetoday.com
SUMMARY:5th Edition Connected Africa- Telecom Innovation & Excellence Awards 2024 (Africa's Premier Telecom Summit)
DESCRIPTION:The 5th Edition of Connected Africa\, Africa’s Premier Telecom Summit delivering holistic insight into digital infrastructure developments and trends\, organised by The International Center for Strategic Alliances is scheduled for the 22nd of May 2024\, in Johannesburg\, South Africa. \nConnected Africa will bring top executives from telecom carriers\, technology vendors\, infrastructure providers\, and regulatory and government officials together to deliberate on the way forward\, conducive environment\, strategies to innovate next generation networks\, as well as potential and pain points. Wireless infrastructure\, VoLTE & 4G LTE\, Network management\, Big data\, BI\, Cloud\, Security\, Analytics\, Next Gen opportunities VAS\, OTT\, OSS/BSS\, IoT & M2M is becoming ever more important\, across the Telecom Sector.
URL:https://www.satellitetoday.com/event/5th-edition-connected-africa-telecom-innovation-excellence-awards-2024-africas-premier-telecom-summit/
CATEGORIES:Industry Events
ATTACH;FMTTYPE=image/png:https://www.satellitetoday.com/wp-content/uploads/2024/04/Media-creatives_Company-logo-4.png
END:VEVENT
BEGIN:VEVENT
DTSTART;VALUE=DATE:20240528
DTEND;VALUE=DATE:20240530
DTSTAMP:20260420T193720
CREATED:20240419T141459Z
LAST-MODIFIED:20240419T141459Z
UID:387224-1716894000-1716980399@www.satellitetoday.com
SUMMARY:Satellite Industry Forum
DESCRIPTION:28 May 2024\, Tuesday  \n9.30am – 6pm SGT | voco Orchard Singapore  \nhttps://www.aviasif.com/  \n\nLooks like 2024 is going to be an exciting year for the satellite industry! Will the NSGOs take over from the geostationary players – or is that just a perception based on hyperbole and press releases? Is satellite-to-device the next “big deal” – but will we ever get much more than just messaging and low speed data? And those tens of thousands of satellites. . . with all the debris and junk. Looks like the world is waking up to the problem big time! Are software defined satellites living up to their claims and expectations – and to what extent are inflation and supply chain problems affecting the economics? And is linear TV finally on its last legs? How do all these questions link up?  \nAll this and much more\, at the Satellite Industry Forum in Singapore on 28th May. Join us for a full day of riveting discussions with key industry leaders where we will explore all facets of the satellite business in Asia. 
URL:https://www.satellitetoday.com/event/satellite-industry-forum-2/
CATEGORIES:Industry Events
ATTACH;FMTTYPE=image/jpeg:https://www.satellitetoday.com/wp-content/uploads/2024/04/SIF24-300x300-1.jpg
END:VEVENT
END:VCALENDAR