BEGIN:VCALENDAR
VERSION:2.0
PRODID:-//Via Satellite - ECPv6.15.17.1//NONSGML v1.0//EN
CALSCALE:GREGORIAN
METHOD:PUBLISH
X-WR-CALNAME:Via Satellite
X-ORIGINAL-URL:https://www.satellitetoday.com
X-WR-CALDESC:Events for Via Satellite
REFRESH-INTERVAL;VALUE=DURATION:PT1H
X-Robots-Tag:noindex
X-PUBLISHED-TTL:PT1H
BEGIN:VTIMEZONE
TZID:America/New_York
BEGIN:DAYLIGHT
TZOFFSETFROM:-0500
TZOFFSETTO:-0400
TZNAME:EDT
DTSTART:20230312T070000
END:DAYLIGHT
BEGIN:STANDARD
TZOFFSETFROM:-0400
TZOFFSETTO:-0500
TZNAME:EST
DTSTART:20231105T060000
END:STANDARD
BEGIN:DAYLIGHT
TZOFFSETFROM:-0500
TZOFFSETTO:-0400
TZNAME:EDT
DTSTART:20240310T070000
END:DAYLIGHT
BEGIN:STANDARD
TZOFFSETFROM:-0400
TZOFFSETTO:-0500
TZNAME:EST
DTSTART:20241103T060000
END:STANDARD
BEGIN:DAYLIGHT
TZOFFSETFROM:-0500
TZOFFSETTO:-0400
TZNAME:EDT
DTSTART:20250309T070000
END:DAYLIGHT
BEGIN:STANDARD
TZOFFSETFROM:-0400
TZOFFSETTO:-0500
TZNAME:EST
DTSTART:20251102T060000
END:STANDARD
END:VTIMEZONE
BEGIN:VEVENT
DTSTART;TZID=America/New_York:20240306T000000
DTEND;TZID=America/New_York:20240307T000000
DTSTAMP:20260423T095406
CREATED:20231220T160710Z
LAST-MODIFIED:20231220T161820Z
UID:378821-1709683200-1709769600@www.satellitetoday.com
SUMMARY:Space-Comm Expo
DESCRIPTION:THE UK’S LARGEST SPACE INDUSTRY EVENT \nSpace-Comm Expo\, 6-7 March 2024 is where the space\, satellite\, aerospace\, and defence industries meet\, develop\, network\, and do business. \nFrom the widening of consumer-focused commercial prospects to the emergence of defence and security regulations\, products\, and services; space plays a vital role within daily life\, and the demand is increasing exponentially every day. \nSupported by key industry associations and influential bodies\, Space-Comm Expo showcases the manufacturing supply chain for products\, services and solutions supplying and informing commercial enterprises\, Government and defence organisations\, and developments in technology. \nHeld at the Farnborough International Exhibition & Conference Centre\, the Home of Pioneering Spirit\, this innovative event brings together the entire sector for two days of face-to-face business and networking. \nDon’t miss out on your free tickets to attend the only exhibition dedicated to the commercial future of space\, click here the link to register: https://eventdata.uk/Visitor/SpaceCommExpo2024.aspx?Trackingcode=VIASATELLITE \nOr visit our website to find out more: https://space-comm.co.uk/?utm_source=Partner&utm_medium=ViaSatellite&utm_campaign=event
URL:https://www.satellitetoday.com/event/space-comm-expo/
CATEGORIES:Industry Events
ATTACH;FMTTYPE=image/png:https://www.satellitetoday.com/wp-content/uploads/ninja-forms/4/2024-SPACE-COMM-EXPO-LOGO-COL-POS-HORIZONTAL-DATE-VENUE-LOCK-UP.png
END:VEVENT
BEGIN:VEVENT
DTSTART;TZID=America/New_York:20240313T000000
DTEND;TZID=America/New_York:20240315T000000
DTSTAMP:20260423T095406
CREATED:20240124T141820Z
LAST-MODIFIED:20240124T141820Z
UID:378731-1710288000-1710460800@www.satellitetoday.com
SUMMARY:Asia Pacific Maritime (APM)
DESCRIPTION:The Maritime Exhibition for Business Opportunities with Asia \nAsia Pacific Maritime (APM) 2024 is the premier exhibition and conference in Asia showcasing a complete overview of the vessel sectors – services and solutions\, technology\, vessels equipment\, machineries\, supplies\, and many more. \nWith 17 editions of proven track record\, APM gives you 3 days of opportunities to connect with decision makers and sharpen industry understanding in Asia.
URL:https://www.satellitetoday.com/event/asia-pacific-maritime-apm/
CATEGORIES:Industry Events
ATTACH;FMTTYPE=image/png:https://www.satellitetoday.com/wp-content/uploads/ninja-forms/4/APM-Logo-Vertical.png
END:VEVENT
BEGIN:VEVENT
DTSTART;TZID=America/New_York:20240318T080000
DTEND;TZID=America/New_York:20240321T150000
DTSTAMP:20260423T095406
CREATED:20230914T185227Z
LAST-MODIFIED:20230914T185227Z
UID:376207-1710748800-1711033200@www.satellitetoday.com
SUMMARY:SATELLITE 2024
DESCRIPTION:The SATELLITE Conference and Exhibition was launched in 1981 with the goal to connect and unite the satellite industry as we headed toward new frontiers. Over the past 43 years\, SATELLITE has served the satellite and space communities and broadened the scope of content to encompass professionals in commercial markets benefiting from satellite technology and applications\, such as broadcasting\, media & entertainment\, government/military\, aviation\, maritime\, automotive\, financial\, healthcare\, telecommunications and more. \n  \nLearn more: https://www.satshow.com/ \nRegister now: https://www.compusystems.com/servlet/AttendeeRegLoginServlet?evt_uid=413&PromoCode=VIACAL
URL:https://www.satellitetoday.com/event/satellite-2024/
LOCATION:Walter E. Washington Convention Center\, Washington\, DC
CATEGORIES:Access Intelligence Events
ATTACH;FMTTYPE=image/png:https://www.satellitetoday.com/wp-content/uploads/2023/09/43046-SAT24-Logo-blk-color.png
END:VEVENT
END:VCALENDAR