BEGIN:VCALENDAR
VERSION:2.0
PRODID:-//Via Satellite - ECPv6.15.17.1//NONSGML v1.0//EN
CALSCALE:GREGORIAN
METHOD:PUBLISH
X-WR-CALNAME:Via Satellite
X-ORIGINAL-URL:https://www.satellitetoday.com
X-WR-CALDESC:Events for Via Satellite
REFRESH-INTERVAL;VALUE=DURATION:PT1H
X-Robots-Tag:noindex
X-PUBLISHED-TTL:PT1H
BEGIN:VTIMEZONE
TZID:America/New_York
BEGIN:DAYLIGHT
TZOFFSETFROM:-0500
TZOFFSETTO:-0400
TZNAME:EDT
DTSTART:20230312T070000
END:DAYLIGHT
BEGIN:STANDARD
TZOFFSETFROM:-0400
TZOFFSETTO:-0500
TZNAME:EST
DTSTART:20231105T060000
END:STANDARD
BEGIN:DAYLIGHT
TZOFFSETFROM:-0500
TZOFFSETTO:-0400
TZNAME:EDT
DTSTART:20240310T070000
END:DAYLIGHT
BEGIN:STANDARD
TZOFFSETFROM:-0400
TZOFFSETTO:-0500
TZNAME:EST
DTSTART:20241103T060000
END:STANDARD
BEGIN:DAYLIGHT
TZOFFSETFROM:-0500
TZOFFSETTO:-0400
TZNAME:EDT
DTSTART:20250309T070000
END:DAYLIGHT
BEGIN:STANDARD
TZOFFSETFROM:-0400
TZOFFSETTO:-0500
TZNAME:EST
DTSTART:20251102T060000
END:STANDARD
END:VTIMEZONE
BEGIN:VEVENT
DTSTART;TZID=America/New_York:20240121T080000
DTEND;TZID=America/New_York:20240124T170000
DTSTAMP:20260423T051343
CREATED:20230926T174728Z
LAST-MODIFIED:20230926T174728Z
UID:376583-1705824000-1706115600@www.satellitetoday.com
SUMMARY:PTC '24
DESCRIPTION:Register today for the premier digital infrastructure\, telecommunications\, and ICT conference of the year! Join top–level executives\, technologists\, thought leaders\, investors\, and more\, as we set the business agenda for the year and set the course for the future of the industry. Significant collaborations and business transactions are seeded at PTC’24\, amid four days of world-class keynote panels\, dynamic topical sessions\, and unparalleled networking events. \n  \n21-24 January 2024 \nHilton Hawaiian Village Waikiki Beach Resort\, Honolulu\, Hawaii\, USA \nhttps://www.ptc.org/
URL:https://www.satellitetoday.com/event/ptc-24/
CATEGORIES:Industry Events
ATTACH;FMTTYPE=image/jpeg:https://www.satellitetoday.com/wp-content/uploads/2023/09/PTC-Facebook-Banner-PTC24-Registration-Open_08212023_v2.jpg
END:VEVENT
BEGIN:VEVENT
DTSTART;TZID=America/New_York:20240130T000000
DTEND;TZID=America/New_York:20240201T000000
DTSTAMP:20260423T051343
CREATED:20240124T141744Z
LAST-MODIFIED:20240124T141744Z
UID:378671-1706572800-1706745600@www.satellitetoday.com
SUMMARY:SpaceCom | Space Congress Conference & Exposition
DESCRIPTION:SpaceCom | Space Congress is the premier\, global commercial space event that attracts thousands of space professionals and the industry’s boldest leaders from the commercial\, spaceport\, and defense sectors. As part of Commercial Space Week\, SpaceCom | 50th Space Congress brings together the entire space ecosystem including sub and prime contractors from the commercial industry\, international agencies and organizations\, end-use markets\, major government branches such as NASA\, the DoD\, the United States Space Force and Space Systems Command\, spaceports from around the world\, and so many more.
URL:https://www.satellitetoday.com/event/spacecom-space-congress-conference-exposition/
CATEGORIES:Industry Events
ATTACH;FMTTYPE=application/pdf:https://www.satellitetoday.com/wp-content/uploads/ninja-forms/4/SpaceCom-2024-Logo-Lockup_Horizontal-Color.pdf
END:VEVENT
END:VCALENDAR