BEGIN:VCALENDAR
VERSION:2.0
PRODID:-//Via Satellite - ECPv6.15.17.1//NONSGML v1.0//EN
CALSCALE:GREGORIAN
METHOD:PUBLISH
X-ORIGINAL-URL:https://www.satellitetoday.com
X-WR-CALDESC:Events for Via Satellite
REFRESH-INTERVAL;VALUE=DURATION:PT1H
X-Robots-Tag:noindex
X-PUBLISHED-TTL:PT1H
BEGIN:VTIMEZONE
TZID:America/New_York
BEGIN:DAYLIGHT
TZOFFSETFROM:-0500
TZOFFSETTO:-0400
TZNAME:EDT
DTSTART:20180311T070000
END:DAYLIGHT
BEGIN:STANDARD
TZOFFSETFROM:-0400
TZOFFSETTO:-0500
TZNAME:EST
DTSTART:20181104T060000
END:STANDARD
BEGIN:DAYLIGHT
TZOFFSETFROM:-0500
TZOFFSETTO:-0400
TZNAME:EDT
DTSTART:20190310T070000
END:DAYLIGHT
BEGIN:STANDARD
TZOFFSETFROM:-0400
TZOFFSETTO:-0500
TZNAME:EST
DTSTART:20191103T060000
END:STANDARD
BEGIN:DAYLIGHT
TZOFFSETFROM:-0500
TZOFFSETTO:-0400
TZNAME:EDT
DTSTART:20200308T070000
END:DAYLIGHT
BEGIN:STANDARD
TZOFFSETFROM:-0400
TZOFFSETTO:-0500
TZNAME:EST
DTSTART:20201101T060000
END:STANDARD
END:VTIMEZONE
BEGIN:VEVENT
DTSTART;TZID=America/New_York:20190918T000000
DTEND;TZID=America/New_York:20190918T000000
DTSTAMP:20260423T082702
CREATED:20190808T191235Z
LAST-MODIFIED:20190808T191235Z
UID:307874-1568764800-1568764800@www.satellitetoday.com
SUMMARY:NASA On-Orbit Servicing\, Assembly and Manufacturing Technology Transfer Industry Day
DESCRIPTION:On September 18th\, NASA Goddard’s Satellite Servicing Projects Division will host its fourth Technology Transfer Industry Day which will cover On-Orbit Servicing\, Assembly\, and Manufacturing (OSAM). U.S. companies interested in technologies to service spacecraft\, develop spacecraft that are more easily serviceable\, and related capabilities including in-space assembly\, manufacturing\, sample collection and return\, human exploration\, orbital debris mitigation/remediation and more\, are encouraged to attend. During the all-day event\, attendees will have access to an updated satellite servicing technology catalog\, information about the latest developments from NASA subject matter experts\, and a tour of Goddard’s Robotic Operations Center. If interested\, visit the FedBizOpps posting for more information and registration details: go.usa.gov/xyScb.
URL:https://www.satellitetoday.com/event/nasa-on-orbit-servicing-assembly-and-manufacturing-technology-transfer-industry-day/
CATEGORIES:Industry Events
ATTACH;FMTTYPE=image/png:https://www.satellitetoday.com/wp-content/uploads/ninja-forms/4/SSPD_Logo_Use.png
END:VEVENT
BEGIN:VEVENT
DTSTART;VALUE=DATE:20190930
DTEND;VALUE=DATE:20191003
DTSTAMP:20260423T082702
CREATED:20190925T150527Z
LAST-MODIFIED:20200528T171821Z
UID:309323-1569841200-1570014000@www.satellitetoday.com
SUMMARY:Smart Cities Week
DESCRIPTION:The East Coast’s gathering of smart cities change-makers is back in Washington\, D.C.! You’ll network with peers and smart cities experts\, uncover solutions to common challenges\, be among the first to see new technologies and approaches from solution providers\, and tour some of Washington\, D.C.\, smart infrastructure projects that are delivering meaningful results. Don’t miss Smart Cities Week\, Washington\, D.C. \nVia Satellite Readers! Save 10% when you register with access code: ACCESS4SCW
URL:https://www.satellitetoday.com/event/smart-cities-week/
CATEGORIES:Industry Events
ATTACH;FMTTYPE=image/png:https://www.satellitetoday.com/wp-content/uploads/ninja-forms/4/SCC_banner_250x250px.png
END:VEVENT
END:VCALENDAR