BEGIN:VCALENDAR
VERSION:2.0
PRODID:-//Via Satellite - ECPv6.15.17.1//NONSGML v1.0//EN
CALSCALE:GREGORIAN
METHOD:PUBLISH
X-ORIGINAL-URL:https://www.satellitetoday.com
X-WR-CALDESC:Events for Via Satellite
REFRESH-INTERVAL;VALUE=DURATION:PT1H
X-Robots-Tag:noindex
X-PUBLISHED-TTL:PT1H
BEGIN:VTIMEZONE
TZID:America/New_York
BEGIN:DAYLIGHT
TZOFFSETFROM:-0500
TZOFFSETTO:-0400
TZNAME:EDT
DTSTART:20190310T070000
END:DAYLIGHT
BEGIN:STANDARD
TZOFFSETFROM:-0400
TZOFFSETTO:-0500
TZNAME:EST
DTSTART:20191103T060000
END:STANDARD
BEGIN:DAYLIGHT
TZOFFSETFROM:-0500
TZOFFSETTO:-0400
TZNAME:EDT
DTSTART:20200308T070000
END:DAYLIGHT
BEGIN:STANDARD
TZOFFSETFROM:-0400
TZOFFSETTO:-0500
TZNAME:EST
DTSTART:20201101T060000
END:STANDARD
BEGIN:DAYLIGHT
TZOFFSETFROM:-0500
TZOFFSETTO:-0400
TZNAME:EDT
DTSTART:20210314T070000
END:DAYLIGHT
BEGIN:STANDARD
TZOFFSETFROM:-0400
TZOFFSETTO:-0500
TZNAME:EST
DTSTART:20211107T060000
END:STANDARD
END:VTIMEZONE
BEGIN:VEVENT
DTSTART;VALUE=DATE:20200618
DTEND;VALUE=DATE:20200619
DTSTAMP:20260422T145137
CREATED:20200205T202219Z
LAST-MODIFIED:20200528T171612Z
UID:311867-1592478000-1592478000@www.satellitetoday.com
SUMMARY:Defense One Tech Summit
DESCRIPTION:As we look towards 2030\, leaders across the Defense Department are accelerating their pursuit and implementation of breakthrough technologies. The 5th annual Defense One Tech Summit will explore how these science and engineering advances will reshape the strategies and tactics of national security. Throughout the day\, you’ll hear mainstage interviews with top military and defense leaders about dominating the battlefield of tomorrow\, bringing America’s tech talent into the DoD\, breaking barriers in missile defense\, winning the fifth domain\, and more. You’ll also be able to get hands-on with new technology in the D Lab.
URL:https://www.satellitetoday.com/event/defense-one-tech-summit/
CATEGORIES:Industry Events
ATTACH;FMTTYPE=image/png:https://www.satellitetoday.com/wp-content/uploads/ninja-forms/4/TechSummit.png
END:VEVENT
BEGIN:VEVENT
DTSTART;VALUE=DATE:20200624
DTEND;VALUE=DATE:20200626
DTSTAMP:20260422T145137
CREATED:20200520T215741Z
LAST-MODIFIED:20200528T171617Z
UID:312806-1592996400-1593082800@www.satellitetoday.com
SUMMARY:Connectivity Business Investment Conference
DESCRIPTION:The annual Connectivity Business Investment Conference will explore the critical strategic and financial issues impacting private or public equity and debt capital investments across the rapidly evolving global terrestrial and orbital connectivity infrastructure and services industry. \nThe programme will consider the future of 4G/5G global connectivity for services providers across a number of communications infrastructure segments\, including fibre networks\, macro cell towers\, small cell networks\, data centres\, GEO / MEO satellite bandwidth\, evolving LEO constellations\, smallsat and launch innovation\, IoT applications and other innovative communications infrastructure. \nWith active participation from conference delegates\, the global forum will advance the investment community’s understanding of the opportunities and challenges in the pursuit of appropriate returns on invested capital from the global terrestrial and orbital connectivity infrastructure services industry.
URL:https://www.satellitetoday.com/event/connectivity-business-investment-conference/
CATEGORIES:Industry Events
END:VEVENT
END:VCALENDAR