BEGIN:VCALENDAR
VERSION:2.0
PRODID:-//Via Satellite - ECPv6.15.17.1//NONSGML v1.0//EN
CALSCALE:GREGORIAN
METHOD:PUBLISH
X-WR-CALNAME:Via Satellite
X-ORIGINAL-URL:https://www.satellitetoday.com
X-WR-CALDESC:Events for Via Satellite
REFRESH-INTERVAL;VALUE=DURATION:PT1H
X-Robots-Tag:noindex
X-PUBLISHED-TTL:PT1H
BEGIN:VTIMEZONE
TZID:America/New_York
BEGIN:DAYLIGHT
TZOFFSETFROM:-0500
TZOFFSETTO:-0400
TZNAME:EDT
DTSTART:20230312T070000
END:DAYLIGHT
BEGIN:STANDARD
TZOFFSETFROM:-0400
TZOFFSETTO:-0500
TZNAME:EST
DTSTART:20231105T060000
END:STANDARD
BEGIN:DAYLIGHT
TZOFFSETFROM:-0500
TZOFFSETTO:-0400
TZNAME:EDT
DTSTART:20240310T070000
END:DAYLIGHT
BEGIN:STANDARD
TZOFFSETFROM:-0400
TZOFFSETTO:-0500
TZNAME:EST
DTSTART:20241103T060000
END:STANDARD
BEGIN:DAYLIGHT
TZOFFSETFROM:-0500
TZOFFSETTO:-0400
TZNAME:EDT
DTSTART:20250309T070000
END:DAYLIGHT
BEGIN:STANDARD
TZOFFSETFROM:-0400
TZOFFSETTO:-0500
TZNAME:EST
DTSTART:20251102T060000
END:STANDARD
END:VTIMEZONE
BEGIN:VEVENT
DTSTART;TZID=America/New_York:20240521T080000
DTEND;TZID=America/New_York:20240523T170000
DTSTAMP:20260422T213944
CREATED:20240418T153921Z
LAST-MODIFIED:20240418T153921Z
UID:387197-1716278400-1716483600@www.satellitetoday.com
SUMMARY:IOT Solutions World Congress
DESCRIPTION:The IOT Solutions World Congress is the ultimate ecosystem and annual gathering for industry leaders\, tech experts\, and C-level professionals. Experience the power of transformative technologies that are reshaping industries and overcoming pressing challenges. We go beyond IoT\, unlocking the full potential of disruptive tech. Don’t miss out on the definitive destination for actionable technology solutions. Be a part of the vibrant community shaping the future of industries.
URL:https://www.satellitetoday.com/event/iot-solutions-world-congress-3/
CATEGORIES:Industry Events
ATTACH;FMTTYPE=image/png:https://www.satellitetoday.com/wp-content/uploads/2024/04/Company-Logo-2.png
END:VEVENT
END:VCALENDAR