

BEGIN:VCALENDAR
VERSION:2.0
PRODID:-//Via Satellite - ECPv6.15.20//NONSGML v1.0//EN
CALSCALE:GREGORIAN
METHOD:PUBLISH
X-WR-CALNAME:Via Satellite
X-ORIGINAL-URL:https://www.satellitetoday.com
X-WR-CALDESC:Events for Via Satellite
REFRESH-INTERVAL;VALUE=DURATION:PT1H
X-Robots-Tag:noindex
X-PUBLISHED-TTL:PT1H
BEGIN:VTIMEZONE
TZID:America/New_York
BEGIN:DAYLIGHT
TZOFFSETFROM:-0500
TZOFFSETTO:-0400
TZNAME:EDT
DTSTART:20230312T070000
END:DAYLIGHT
BEGIN:STANDARD
TZOFFSETFROM:-0400
TZOFFSETTO:-0500
TZNAME:EST
DTSTART:20231105T060000
END:STANDARD
BEGIN:DAYLIGHT
TZOFFSETFROM:-0500
TZOFFSETTO:-0400
TZNAME:EDT
DTSTART:20240310T070000
END:DAYLIGHT
BEGIN:STANDARD
TZOFFSETFROM:-0400
TZOFFSETTO:-0500
TZNAME:EST
DTSTART:20241103T060000
END:STANDARD
BEGIN:DAYLIGHT
TZOFFSETFROM:-0500
TZOFFSETTO:-0400
TZNAME:EDT
DTSTART:20250309T070000
END:DAYLIGHT
BEGIN:STANDARD
TZOFFSETFROM:-0400
TZOFFSETTO:-0500
TZNAME:EST
DTSTART:20251102T060000
END:STANDARD
END:VTIMEZONE
BEGIN:VEVENT
DTSTART;TZID=America/New_York:20240313T000000
DTEND;TZID=America/New_York:20240315T000000
DTSTAMP:20260423T171455
CREATED:20240124T141820Z
LAST-MODIFIED:20240124T141820Z
UID:378731-1710288000-1710460800@www.satellitetoday.com
SUMMARY:Asia Pacific Maritime (APM)
DESCRIPTION:The Maritime Exhibition for Business Opportunities with Asia \nAsia Pacific Maritime (APM) 2024 is the premier exhibition and conference in Asia showcasing a complete overview of the vessel sectors – services and solutions\, technology\, vessels equipment\, machineries\, supplies\, and many more. \nWith 17 editions of proven track record\, APM gives you 3 days of opportunities to connect with decision makers and sharpen industry understanding in Asia.
URL:https://www.satellitetoday.com/event/asia-pacific-maritime-apm/
CATEGORIES:Industry Events
ATTACH;FMTTYPE=image/png:https://www.satellitetoday.com/wp-content/uploads/ninja-forms/4/APM-Logo-Vertical.png
END:VEVENT
END:VCALENDAR