BEGIN:VCALENDAR
VERSION:2.0
PRODID:-//Via Satellite - ECPv6.15.17.1//NONSGML v1.0//EN
CALSCALE:GREGORIAN
METHOD:PUBLISH
X-ORIGINAL-URL:https://www.satellitetoday.com
X-WR-CALDESC:Events for Via Satellite
REFRESH-INTERVAL;VALUE=DURATION:PT1H
X-Robots-Tag:noindex
X-PUBLISHED-TTL:PT1H
BEGIN:VTIMEZONE
TZID:America/New_York
BEGIN:DAYLIGHT
TZOFFSETFROM:-0500
TZOFFSETTO:-0400
TZNAME:EDT
DTSTART:20180311T070000
END:DAYLIGHT
BEGIN:STANDARD
TZOFFSETFROM:-0400
TZOFFSETTO:-0500
TZNAME:EST
DTSTART:20181104T060000
END:STANDARD
BEGIN:DAYLIGHT
TZOFFSETFROM:-0500
TZOFFSETTO:-0400
TZNAME:EDT
DTSTART:20190310T070000
END:DAYLIGHT
BEGIN:STANDARD
TZOFFSETFROM:-0400
TZOFFSETTO:-0500
TZNAME:EST
DTSTART:20191103T060000
END:STANDARD
BEGIN:DAYLIGHT
TZOFFSETFROM:-0500
TZOFFSETTO:-0400
TZNAME:EDT
DTSTART:20200308T070000
END:DAYLIGHT
BEGIN:STANDARD
TZOFFSETFROM:-0400
TZOFFSETTO:-0500
TZNAME:EST
DTSTART:20201101T060000
END:STANDARD
END:VTIMEZONE
BEGIN:VEVENT
DTSTART;TZID=America/New_York:20191112T000000
DTEND;TZID=America/New_York:20191114T000000
DTSTAMP:20260422T031947
CREATED:20190805T180042Z
LAST-MODIFIED:20190805T182338Z
UID:307706-1573516800-1573689600@www.satellitetoday.com
SUMMARY:MILCOM 2019
DESCRIPTION:MILCOM 2019—The Global Stage for Innovation in Military Communications\nDefining Multi-Domain Command and Control\nReimagined and Reengineered—NEW Networking\, Education\, and Business-Building Opportunities!\nNovember 12-14\, 2019 – Norfolk\, VA \nAt MILCOM\, global military communications professionals face command\, control\, communications\, computing\, intelligence\, surveillance and reconnaissance (C4ISR) challenges head on. They look at them from every angle and discuss them from end to end – research and development through future needs. The conference allows industry the opportunity to hear and understand the requirements\, pace of change and state of play in a variety of C4ISR markets serving the military\, federal agencies and multinational entities.
URL:https://www.satellitetoday.com/event/milcom-2019/
CATEGORIES:Industry Events
ATTACH;FMTTYPE=image/png:https://www.satellitetoday.com/wp-content/uploads/ninja-forms/4/MILCOM2019_300x250.png
END:VEVENT
END:VCALENDAR