BEGIN:VCALENDAR
VERSION:2.0
PRODID:-//Via Satellite - ECPv6.15.17.1//NONSGML v1.0//EN
CALSCALE:GREGORIAN
METHOD:PUBLISH
X-WR-CALNAME:Via Satellite
X-ORIGINAL-URL:https://www.satellitetoday.com
X-WR-CALDESC:Events for Via Satellite
REFRESH-INTERVAL;VALUE=DURATION:PT1H
X-Robots-Tag:noindex
X-PUBLISHED-TTL:PT1H
BEGIN:VTIMEZONE
TZID:America/New_York
BEGIN:DAYLIGHT
TZOFFSETFROM:-0500
TZOFFSETTO:-0400
TZNAME:EDT
DTSTART:20180311T070000
END:DAYLIGHT
BEGIN:STANDARD
TZOFFSETFROM:-0400
TZOFFSETTO:-0500
TZNAME:EST
DTSTART:20181104T060000
END:STANDARD
BEGIN:DAYLIGHT
TZOFFSETFROM:-0500
TZOFFSETTO:-0400
TZNAME:EDT
DTSTART:20190310T070000
END:DAYLIGHT
BEGIN:STANDARD
TZOFFSETFROM:-0400
TZOFFSETTO:-0500
TZNAME:EST
DTSTART:20191103T060000
END:STANDARD
BEGIN:DAYLIGHT
TZOFFSETFROM:-0500
TZOFFSETTO:-0400
TZNAME:EDT
DTSTART:20200308T070000
END:DAYLIGHT
BEGIN:STANDARD
TZOFFSETFROM:-0400
TZOFFSETTO:-0500
TZNAME:EST
DTSTART:20201101T060000
END:STANDARD
END:VTIMEZONE
BEGIN:VEVENT
DTSTART;TZID=America/New_York:20191104T000000
DTEND;TZID=America/New_York:20191105T000000
DTSTAMP:20260422T074105
CREATED:20190103T161043Z
LAST-MODIFIED:20190530T165210Z
UID:295655-1572825600-1572912000@www.satellitetoday.com
SUMMARY:DC5G 2019
DESCRIPTION:DC5G is where business and leadership merge with technology and strategy. Designed for C-suite and senior executives responsible for keeping their company competitive in today’s global economy\, delegates will dive into case studies\, explore public-private partnership strategies\, and hear success stories from use cases on the cutting edge of 5G that will help build long-term tactical plans to harness 5G technology for positive and profitable growth. \nThis executive business leadership conference will cut through the noise surrounding 5G and drive conversations centered on action. The program\, curated by an advisory board comprised of industry leaders and government officials\, will reveal the real value that 5G will deliver to industry\, finance\, and government. Join fellow leaders at DC5G to participate in two days of stimulating\, interactive discussion and debate\, and hear revelatory insights from must-see speakers. \nLearn more – https://2019.dc5g.com/
URL:https://www.satellitetoday.com/event/dc5g-2019/
CATEGORIES:Access Intelligence Events
ATTACH;FMTTYPE=image/png:https://www.satellitetoday.com/wp-content/uploads/ninja-forms/4/33184-DC5G-2019-Logo_2.png
END:VEVENT
BEGIN:VEVENT
DTSTART;TZID=America/New_York:20191105T000000
DTEND;TZID=America/New_York:20191107T000000
DTSTAMP:20260422T074105
CREATED:20190905T132445Z
LAST-MODIFIED:20190905T132752Z
UID:303341-1572912000-1573084800@www.satellitetoday.com
SUMMARY:21st Annual Global MilSatCom
DESCRIPTION:SMi Group are proud to announce the 21st annual Global MilSatCom conference and exhibition will return to London on the 5th\, 6th and 7th November alongside a Small Satellites and Disruptive Space Technology focus day on the 4th November. \nAs Europe’s leading military communications event for satellite professionals\, Global MilSatCom’s reputation has been built on the high-level international speakers and decision makers it attracts and the fantastic interactive opportunities offered during the conference sessions and networking receptions. \nA key theme of the conference will be ‘maintaining and sustaining space superiority’\, with key updates on the UK’s SKYNET constellation and international SATCOM programme developments\, including the enterprise wide reorganisation endeavours within the US DoD and its new and ‘go fast’ procurement efforts. \nIt will also explore allied collaboration and future military programmes\, resilience and protection in future architectures\, next generation LEO small sat constellation and much more! \n  \nTo register or for more information visit: http://www.globalmilsatcom.com/viasatellite
URL:https://www.satellitetoday.com/event/21st-annual-global-milsatcom/
CATEGORIES:Industry Events
ATTACH;FMTTYPE=image/jpeg:https://www.satellitetoday.com/wp-content/uploads/ninja-forms/4/D-210-364x364.jpg
END:VEVENT
END:VCALENDAR