BEGIN:VCALENDAR
VERSION:2.0
PRODID:-//Via Satellite - ECPv6.15.17.1//NONSGML v1.0//EN
CALSCALE:GREGORIAN
METHOD:PUBLISH
X-ORIGINAL-URL:https://www.satellitetoday.com
X-WR-CALDESC:Events for Via Satellite
REFRESH-INTERVAL;VALUE=DURATION:PT1H
X-Robots-Tag:noindex
X-PUBLISHED-TTL:PT1H
BEGIN:VTIMEZONE
TZID:America/New_York
BEGIN:DAYLIGHT
TZOFFSETFROM:-0500
TZOFFSETTO:-0400
TZNAME:EDT
DTSTART:20180311T070000
END:DAYLIGHT
BEGIN:STANDARD
TZOFFSETFROM:-0400
TZOFFSETTO:-0500
TZNAME:EST
DTSTART:20181104T060000
END:STANDARD
BEGIN:DAYLIGHT
TZOFFSETFROM:-0500
TZOFFSETTO:-0400
TZNAME:EDT
DTSTART:20190310T070000
END:DAYLIGHT
BEGIN:STANDARD
TZOFFSETFROM:-0400
TZOFFSETTO:-0500
TZNAME:EST
DTSTART:20191103T060000
END:STANDARD
BEGIN:DAYLIGHT
TZOFFSETFROM:-0500
TZOFFSETTO:-0400
TZNAME:EDT
DTSTART:20200308T070000
END:DAYLIGHT
BEGIN:STANDARD
TZOFFSETFROM:-0400
TZOFFSETTO:-0500
TZNAME:EST
DTSTART:20201101T060000
END:STANDARD
END:VTIMEZONE
BEGIN:VEVENT
DTSTART;VALUE=DATE:20191002
DTEND;VALUE=DATE:20191004
DTSTAMP:20260423T142335
CREATED:20190612T204537Z
LAST-MODIFIED:20190612T204537Z
UID:305692-1570014000-1570147199@www.satellitetoday.com
SUMMARY:OilComm Conference & Exposition
DESCRIPTION:OilComm fosters a forward-thinking community to innovate the oil & gas industry. The show brings together 1000+ energy professionals who lead teams within digital technology departments and are responsible for communications\, cyber-security\, operations\, optimization\, automation\, IT/OT\, data\, digitalization\, edge-computing\, cloud services\, VR/AR\, and machine-to-machine learning. This is the event where oil & gas technology experts come to explore innovative technology and services on the show floor\, network at our rockin’ receptions\, and learn the latest on the digital revolution that’s transforming the industry!
URL:https://www.satellitetoday.com/event/oilcomm-conference-exposition/
CATEGORIES:Access Intelligence Events
ATTACH;FMTTYPE=image/png:https://www.satellitetoday.com/wp-content/uploads/ninja-forms/4/33784_OC19-Logo_Horizontal_color-e1560372307564.png
END:VEVENT
END:VCALENDAR