

BEGIN:VCALENDAR
VERSION:2.0
PRODID:-//Via Satellite - ECPv6.15.20//NONSGML v1.0//EN
CALSCALE:GREGORIAN
METHOD:PUBLISH
X-ORIGINAL-URL:https://www.satellitetoday.com
X-WR-CALDESC:Events for Via Satellite
REFRESH-INTERVAL;VALUE=DURATION:PT1H
X-Robots-Tag:noindex
X-PUBLISHED-TTL:PT1H
BEGIN:VTIMEZONE
TZID:America/New_York
BEGIN:DAYLIGHT
TZOFFSETFROM:-0500
TZOFFSETTO:-0400
TZNAME:EDT
DTSTART:20180311T070000
END:DAYLIGHT
BEGIN:STANDARD
TZOFFSETFROM:-0400
TZOFFSETTO:-0500
TZNAME:EST
DTSTART:20181104T060000
END:STANDARD
BEGIN:DAYLIGHT
TZOFFSETFROM:-0500
TZOFFSETTO:-0400
TZNAME:EDT
DTSTART:20190310T070000
END:DAYLIGHT
BEGIN:STANDARD
TZOFFSETFROM:-0400
TZOFFSETTO:-0500
TZNAME:EST
DTSTART:20191103T060000
END:STANDARD
BEGIN:DAYLIGHT
TZOFFSETFROM:-0500
TZOFFSETTO:-0400
TZNAME:EDT
DTSTART:20200308T070000
END:DAYLIGHT
BEGIN:STANDARD
TZOFFSETFROM:-0400
TZOFFSETTO:-0500
TZNAME:EST
DTSTART:20201101T060000
END:STANDARD
END:VTIMEZONE
BEGIN:VEVENT
DTSTART;TZID=America/New_York:20190803T000000
DTEND;TZID=America/New_York:20190808T000000
DTSTAMP:20260424T032722
CREATED:20190409T220107Z
LAST-MODIFIED:20190409T220120Z
UID:300241-1564790400-1565222400@www.satellitetoday.com
SUMMARY:Small Satellite Conference
DESCRIPTION:Small Satellite Production – Driving a Revolution \nOver the past few decades\, small satellites have transitioned from one-of-a-kind systems performing very specific missions to being considered for constellations where they work in concert to achieve a larger purpose. Just as the Industrial Revolution\, with its new manufacturing processes\, marked a turning point in history\, small satellites are poised to create a revolution in space. While mass production of small satellites conjures up thoughts of large factories with assembly line workers installing standardized products\, it may not be that simple. To enable the high-volume production necessary to achieve the global coverage sought by commercial and government stakeholders\, new considerations must be addressed regarding quality control\, standards\, and designing for manufacturability\, and automated assembly\, integration and test—all to be balanced with the cost considerations critical to startup investments. \nDuring the 33rd AIAA/USU Conference on Small Satellites\, we will explore the technical issues\, development considerations\, and new opportunities that result from an ever-growing trend toward missions using tens\, hundreds\, or even thousands of small satellites to achieve revolutionary effects.
URL:https://www.satellitetoday.com/event/small-satellite-conference/
CATEGORIES:Industry Events
END:VEVENT
END:VCALENDAR